Workbook

Sheet INFO
C1: Fairtrade's Risk Assessment Tool for Smallholder Farmer Organisations
B3: INTRODUCTION
B5: Fairtrade developed this tool to support Fairtrade-certified Small Producer Organisations to undertake a Human Rights and Environmental Risk Assessment. The aim is to identify the human rights and environmental risks and challenges that are the most serious and common - or "salient" - related to your business. This helps you to focus your sustainability work on these salient issues.
B7: The tool is compatible with Fairtrade's HREDD guide for small producer organisations, which you can find here
B8: https://files.fairtrade.net/standards/Fairtrade_HREDD-guide-for-smallholder-farmer-organisations_EN.pdf
B10: TOOL OVERVIEW
B12: The SPO Risk Assessment tool contains the following steps:
C14: STEP 1 | E14: Common risks in the country and product. Shows what external data and research see as salient risks in the selected product and country. Data is retrieved from the Fairtrade Risk Map: riskmap.fairtrade.net
C15: STEP 2 | E15: Risks of your organisation. Provides a set of questions that help you to assess how serious and common each risk is for your organisation.
C16: STEP 3 | E16: Salient risk selection. Displays an overview of the results of steps 1 and 2 and asks you to select three salient risks for your organisation.
C17: STEP 4 | E17: Further assessment. Provides another set of questions that help you further analyse your salient risks.
B21: Risk Matrix
E24: Seriousness
E25: Very serious | F25: Serious | G25: Somewhat serious | H25: Not serious
C26: Likelihood | D26: Very common | E26: 1 | F26: 1 | G26: 2 | H26: 3
D27: Common | E27: 1 | F27: 1 | G27: 2 | H27: 3
D28: Medium | E28: 1 | F28: 2 | G28: 3 | H28: 4
D29: Low | E29: 2 | F29: 2 | G29: 3 | H29: 4
B33: How to use the tool
B35: To access the tool: Click the tab "Risk Assessment Tool"
B40: The cells that you need to fill in are coloured in light blue. Rest of the information will appear once you have filled in the blue cells.
B41: Do not delete fields that contain formulas. If you do so accidentally, you can first try to undo the deletion by pressing "undo" in the Excel top ribbon. If the problem persists, please download the tool again from https://www.fairtrade.net/standard/spo
B52: Folding lists help you select the product and country. You can recognise them from the little arrow.
B64: Before you fill in the light blue boxes, some other boxes will show like this:
B71: They will show correctly, once you've filled in the light blue boxes:
B78: When you use this tool, your computer can show you some of the below messages. If you dowloaded this tool from Fairtrade webpage or received it by a trusted Fairtrade contract, please proceed to enable editing and content.
B82: Progress in the risk assessment can be saved at any stage and resumed later by opening the Excel file.
B83: If you require assistance, please contact bizhumanrights@fairtrade.fi
B84: It is recommended to repeat the risks assessment every three years. You can always find the most up to date version here:
B85: https://www.fairtrade.net/standard/spo
B88: Human rights
C90: This tool covers all internationally recognised human rights, grouping them into 13 issues:
B91: 1. | C91: Living income, living wage
B92: 2. | C92: Working conditions
B93: 3. | C93: Health
B94: 4. | C94: Freedom of association and collective bargaining
B95: 5. | C95: Forced labour
B96: 6. | C96: Child protection and child rights
B97: 7. | C97: Gender rights
B98: 8. | C98: Non-discrimination
...

Sheet Risk Assessment Tool
B1: Fairtrade's Risk Assessment Tool for Smallholder Farmer Organisations
B2: Fairtrade has developed this simple tool to support Fairtrade certified organisations to undertake human rights and environmental risk assessment. The tool draws on the Fairtrade Risk Map at https://riskmap.fairtrade.net/ Please check that you've downloaded the most recent version from: https://www.fairtrade.net/standard/spo To carry out the risk assessment, please follow the instructions in blue cells. Scroll down to see all 4 steps.
B4: STEP 1 | C4: General risks in your product and country
C5: What are the highest risks in your product and country of operation in general? Please select: | D5: Your biggest Fairtrade certified product (group) | E5: Your 2nd biggest Fairtrade certified product (group), if you have one | F5: Your country of operation | H5: External data
C6: Start by choosing your product(s) and country -> | D6: Cocoa | E6: No second product | F6: Ethiopia | H6: Results | J6: Definitions
C7: 1. Living income, living wage | D7: =INDEX('Product risks'!$B$3:$S$15,MATCH('Risk Assessment Tool'!C7,'Product risks'!$A$3:$A$15,0),MATCH('Risk Assessment Tool'!$D$6,'Product risks'!$B$2:$S$2,0)) -> 1 | E7: =INDEX('Product risks'!$B$3:$S$15,MATCH('Risk Assessment Tool'!C7,'Product risks'!$A$3:$A$15,0),MATCH('Risk Assessment Tool'!$E$6,'Product risks'!$B$2:$S$2,0)) -> No data | F7: =VLOOKUP($F$6,CountryRisks2!A:CL,12,FALSE) -> 1.3333333 | H7: =AVERAGE(D7:F7) -> 1.1666667 | J7: Risk of farmers' and workers' earnings not covering the cost of basic but sufficient food, water, housing, transport, health care, schooling and savings.
C8: 2. Working conditions | D8: =INDEX('Product risks'!$B$3:$S$15,MATCH('Risk Assessment Tool'!C8,'Product risks'!$A$3:$A$15,0),MATCH('Risk Assessment Tool'!$D$6,'Product risks'!$B$2:$S$2,0)) -> 3 | E8: =INDEX('Product risks'!$B$3:$S$15,MATCH('Risk Assessment Tool'!C8,'Product risks'!$A$3:$A$15,0),MATCH('Risk Assessment Tool'!$E$6,'Product risks'!$B$2:$S$2,0)) -> No data | F8: =VLOOKUP($F$6,CountryRisks2!A:CL,19,FALSE) -> 2 | H8: =AVERAGE(D8:F8) -> 2.5 | J8: Risk of unfair or inhumane working conditions.
C9: 3. Health | D9: =INDEX('Product risks'!$B$3:$S$15,MATCH('Risk Assessment Tool'!C9,'Product risks'!$A$3:$A$15,0),MATCH('Risk Assessment Tool'!$D$6,'Product risks'!$B$2:$S$2,0)) -> 2 | E9: =INDEX('Product risks'!$B$3:$S$15,MATCH('Risk Assessment Tool'!C9,'Product risks'!$A$3:$A$15,0),MATCH('Risk Assessment Tool'!$E$6,'Product risks'!$B$2:$S$2,0)) -> No data | F9: =VLOOKUP($F$6,CountryRisks2!A:CL,12,FALSE) -> 1.3333333 | H9: =AVERAGE(D9:F9) -> 1.6666667 | J9: Risk of unhealthy or unsafe workplace or lack of health services.
C10: 4. Freedom of association and collective bargaining | D10: =INDEX('Product risks'!$B$3:$S$15,MATCH('Risk Assessment Tool'!C10,'Product risks'!$A$3:$A$15,0),MATCH('Risk Assessment Tool'!$D$6,'Product risks'!$B$2:$S$2,0)) -> 4 | E10: =INDEX('Product risks'!$B$3:$S$15,MATCH('Risk Assessment Tool'!C10,'Product risks'!$A$3:$A$15,0),MATCH('Risk Assessment Tool'!$E$6,'Product risks'!$B$2:$S$2,0)) -> No data | F10: =VLOOKUP($F$6,CountryRisks2!A:CL,19,FALSE) -> 2 | H10: =AVERAGE(D10:F10) -> 3 | J10: Risk that workers are not allowed to organise and negotiate collectively on wages and working conditions.
C11: 5. Forced labour | D11: =INDEX('Product risks'!$B$3:$S$15,MATCH('Risk Assessment Tool'!C11,'Product risks'!$A$3:$A$15,0),MATCH('Risk Assessment Tool'!$D$6,'Product risks'!$B$2:$S$2,0)) -> 3 | E11: =INDEX('Product risks'!$B$3:$S$15,MATCH('Risk Assessment Tool'!C11,'Product risks'!$A$3:$A$15,0),MATCH('Risk Assessment Tool'!$E$6,'Product risks'!$B$2:$S$2,0)) -> No data | F11: =VLOOKUP($F$6,CountryRisks2!A:CL,46,FALSE) -> 2.5 | H11: =AVERAGE(D11:F11) -> 2.75 | J11: Risk that some work is not voluntary, because farmers/workers are indebted, passports are withheld, wages are not paid regularly etc.
C12: 6. Child protection and child rights | D12: =INDEX('Product risks'!$B$3:$S$15,MATCH('Risk Assessment Tool'!C12,'Product risks'!$A$3:$A$15,0),MATCH('Risk Assessment Tool'!$D$6,'Product risks'!$B$2:$S$2,0)) -> 1 | E12: =INDEX('Product risks'!$B$3:$S$15,MATCH('Risk Assessment Tool'!C12,'Product risks'!$A$3:$A$15,0),MATCH('Risk Assessment Tool'!$E$6,'Product risks'!$B$2:$S$2,0)) -> No data | F12: =VLOOKUP($F$6,CountryRisks2!A:CL,39,FALSE) -> 1 | H12: =AVERAGE(D12:F12) -> 1 | J12: Risk of child labour, other abuse or some children not accessing school.
C13: 7. Gender rights | D13: =INDEX('Product risks'!$B$3:$S$15,MATCH('Risk Assessment Tool'!C13,'Product risks'!$A$3:$A$15,0),MATCH('Risk Assessment Tool'!$D$6,'Product risks'!$B$2:$S$2,0)) -> 2 | E13: =INDEX('Product risks'!$B$3:$S$15,MATCH('Risk Assessment Tool'!C13,'Product risks'!$A$3:$A$15,0),MATCH('Risk Assessment Tool'!$E$6,'Product risks'!$B$2:$S$2,0)) -> No data | F13: =VLOOKUP($F$6,CountryRisks2!A:CL,26,FALSE) -> 2 | H13: =AVERAGE(D13:F13) -> 2 | J13: Risk of inequality between men and women, harassment at workplace etc.
C14: 8. Non-discrimination | D14: =INDEX('Product risks'!$B$3:$S$15,MATCH('Risk Assessment Tool'!C14,'Product risks'!$A$3:$A$15,0),MATCH('Risk Assessment Tool'!$D$6,'Product risks'!$B$2:$S$2,0)) -> 3 | E14: =INDEX('Product risks'!$B$3:$S$15,MATCH('Risk Assessment Tool'!C14,'Product risks'!$A$3:$A$15,0),MATCH('Risk Assessment Tool'!$E$6,'Product risks'!$B$2:$S$2,0)) -> No data | F14: =VLOOKUP($F$6,CountryRisks2!A:CL,56,FALSE) -> 2.6666667 | H14: =AVERAGE(D14:F14) -> 2.8333333 | J14: Risk that some group of people is treated differently from others. This can be for example migrants or religious minorities.
C15: 9. Self-determination | D15: =INDEX('Product risks'!$B$3:$S$15,MATCH('Risk Assessment Tool'!C15,'Product risks'!$A$3:$A$15,0),MATCH('Risk Assessment Tool'!$D$6,'Product risks'!$B$2:$S$2,0)) -> 3 | E15: =INDEX('Product risks'!$B$3:$S$15,MATCH('Risk Assessment Tool'!C15,'Product risks'!$A$3:$A$15,0),MATCH('Risk Assessment Tool'!$E$6,'Product risks'!$B$2:$S$2,0)) -> No data | F15: =VLOOKUP($F$6,CountryRisks2!A:CL,63,FALSE) -> 2.5 | H15: =AVERAGE(D15:F15) -> 2.75 | J15: Risk that some people are not free to decide where or how they live.
C16: 10. Climate emissions and deforestation | D16: =INDEX('Product risks'!$B$3:$S$15,MATCH('Risk Assessment Tool'!C16,'Product risks'!$A$3:$A$15,0),MATCH('Risk Assessment Tool'!$D$6,'Product risks'!$B$2:$S$2,0)) -> 1 | E16: =INDEX('Product risks'!$B$3:$S$15,MATCH('Risk Assessment Tool'!C16,'Product risks'!$A$3:$A$15,0),MATCH('Risk Assessment Tool'!$E$6,'Product risks'!$B$2:$S$2,0)) -> No data | F16: =VLOOKUP($F$6,CountryRisks2!A:CL,80,FALSE) -> 2.6666667 | H16: =AVERAGE(D16:F16) -> 1.8333333 | J16: Risk of deforestation or excessive climate emissions.
C17: 11. Water and biodiversity | D17: =INDEX('Product risks'!$B$3:$S$15,MATCH('Risk Assessment Tool'!C17,'Product risks'!$A$3:$A$15,0),MATCH('Risk Assessment Tool'!$D$6,'Product risks'!$B$2:$S$2,0)) -> 3 | E17: =INDEX('Product risks'!$B$3:$S$15,MATCH('Risk Assessment Tool'!C17,'Product risks'!$A$3:$A$15,0),MATCH('Risk Assessment Tool'!$E$6,'Product risks'!$B$2:$S$2,0)) -> No data | F17: =VLOOKUP($F$6,CountryRisks2!A:CL,90,FALSE) -> 2.6666667 | H17: =AVERAGE(D17:F17) -> 2.8333333 | J17: Risk of water pollution or overuse, or reducing variety of plants, animals and other life on Earth.
C18: 12. Freedom of speech, thought and public participation | D18: =INDEX('Product risks'!$B$3:$S$15,MATCH('Risk Assessment Tool'!C18,'Product risks'!$A$3:$A$15,0),MATCH('Risk Assessment Tool'!$D$6,'Product risks'!$B$2:$S$2,0)) -> 3 | E18: =INDEX('Product risks'!$B$3:$S$15,MATCH('Risk Assessment Tool'!C18,'Product risks'!$A$3:$A$15,0),MATCH('Risk Assessment Tool'!$E$6,'Product risks'!$B$2:$S$2,0)) -> No data | F18: =VLOOKUP($F$6,CountryRisks2!A:CL,70,FALSE) -> 1 | H18: =AVERAGE(D18:F18) -> 2 | J18: Risk that farmers, workers or local communities are not free to express themselves or participate in public affairs.
C19: 13. Privacy | D19: =INDEX('Product risks'!$B$3:$S$15,MATCH('Risk Assessment Tool'!C19,'Product risks'!$A$3:$A$15,0),MATCH('Risk Assessment Tool'!$D$6,'Product risks'!$B$2:$S$2,0)) -> 4 | E19: =INDEX('Product risks'!$B$3:$S$15,MATCH('Risk Assessment Tool'!C19,'Product risks'!$A$3:$A$15,0),MATCH('Risk Assessment Tool'!$E$6,'Product risks'!$B$2:$S$2,0)) -> No data | F19: =VLOOKUP($F$6,CountryRisks2!A:CL,70,FALSE) -> 1 | H19: =AVERAGE(D19:F19) -> 2.5 | J19: Risk that somebody's personal matters or relationships are spread.
D20: Pink = very high risk; Orange = high risk; yellow = medium risk; light green = low risk The results are based on independent research and statistics.
D21: Note: Your buyers and other stakeholders are typically most concerned about the issues with multiple red markings.
B23: STEP 2 | C23: Risks related to your organisation
C24: What are the highest risks related to your organisation in specific? Please press + sign on the left and answer questions on lines 28 – 81 (input 1-4 on the blue cells to get the average for your organisation), indicating how common and serious the issues are among your stakeholders.
D25: How common is this?* | E25: How serious is the impact?** | F25: Results | J25: Explanations * How many people are affected and how often the issue happens. For example, is shortage of food experienced by most farmers several months a year, or just very few farmers right before harvest?
D26: 1 = very common 2 = common 3 = sometimes 4 = not common | E26: 1 = very serious 2 = serious 3 = somewhat serious 4 = not serious | F26: Your organisation | H26: External data (results from above) | J26: ** How seriously does the issue affect people or the environment in your area? For example, children sometimes helping their parents on fields during school hours is less serious than children working with dangerous tools without supervision.
C27: 1. Living income | F27: =AVERAGE(D31:E31) -> #DIV/0! | H27: =H7 -> 1.1666667
C28: Farmers’ incomes are too low to access adequate food, clothing, housing, schooling and other needs for their family.
C29: Some farmers are doing the same work for lower wages than others (e.g. seasonal workers or workers paid piece-meal).
C30: Wages are paid partially as in-kind benefits that are of very poor quality or over-priced.
D31: =AVERAGE(D28:D30) -> #DIV/0! | E31: =AVERAGE(E28:E30) -> #DIV/0!
C33: 2. Working conditions | F33: =AVERAGE(D37:E37) -> #DIV/0! | H33: =H8 -> 2.5
C34: Clean drinking water and toilets are unavailable during work days.
C35: There are workers who have no written contracts of employment.
C36: There are workers who do not get paid regularly and at least monthly
D37: =AVERAGE(D34:D36) -> #DIV/0! | E37: =AVERAGE(E34:E36) -> #DIV/0!
C39: 3. Health | F39: =AVERAGE(D43:E43) -> #DIV/0! | H39: =H9 -> 1.6666667
C40: There are tools, machinery, work processes or places that cause injuries or health problems.
C41: Personal protective equipment is unavailable for farmers or workers who perform hazardous tasks OR Do farmers or workers lack awareness of why or how to use it.
C42: There has been complaints that farming has polluted local waterways, air or soil, and caused ill health to local people.
D43: =AVERAGE(D40:D42) -> #DIV/0! | E43: =AVERAGE(E40:E42) -> #DIV/0!
C45: 4. Freedom of association and collective bargaining | F45: =AVERAGE(D48:E48) -> #DIV/0! | H45: =H10 -> 3
...

Sheet Product risks
B1: When changing the column headers here, you need to also change the Dropdown menu headings in the yellow table
A2: Selected Risk by Fairtrade | B2: Coffee | C2: Cocoa | D2: Bananas | E2: Sugar (not available yet) | F2: Tea (not for SPOs) | G2: Tea (not available yet) | H2: Cotton (not available yet) | I2: Wine grapes (not for SPOs) | J2: Gold (not available yet) | K2: Honey | L2: Fruit (not available yet) | M2: Herbs & spices (not available yet) | N2: Cereals & rice (not available yet) | O2: Nuts & oils (not available yet) | P2: Vegetables (not available yet) | Q2: Sports balls (not for SPOs) | R2: Carbon credits (not for SPOs) | S2: No second product
A3: 1. Living income, living wage | B3: 1 | C3: 1 | D3: 1 | E3: Not available yet | F3: Not available yet | G3: Not available yet | H3: Not available yet | I3: Not available yet | J3: Not available yet | K3: 1 | L3: Not available yet | M3: Not available yet | N3: Not available yet | O3: Not available yet | P3: Not available yet | Q3: Not available yet | R3: Not available yet | S3: No data
A4: 2. Working conditions | B4: 3 | C4: 3 | D4: 2 | E4: Not available yet | F4: Not available yet | G4: Not available yet | H4: Not available yet | I4: Not available yet | J4: Not available yet | K4: 3 | L4: Not available yet | M4: Not available yet | N4: Not available yet | O4: Not available yet | P4: Not available yet | Q4: Not available yet | R4: Not available yet | S4: No data
A5: 3. Health | B5: 3 | C5: 2 | D5: 2 | E5: Not available yet | F5: Not available yet | G5: Not available yet | H5: Not available yet | I5: Not available yet | J5: Not available yet | K5: 2 | L5: Not available yet | M5: Not available yet | N5: Not available yet | O5: Not available yet | P5: Not available yet | Q5: Not available yet | R5: Not available yet | S5: No data
A6: 4. Freedom of association and collective bargaining | B6: 4 | C6: 4 | D6: 2 | E6: Not available yet | F6: Not available yet | G6: Not available yet | H6: Not available yet | I6: Not available yet | J6: Not available yet | K6: 3 | L6: Not available yet | M6: Not available yet | N6: Not available yet | O6: Not available yet | P6: Not available yet | Q6: Not available yet | R6: Not available yet | S6: No data
A7: 5. Forced labour | B7: 4 | C7: 3 | D7: 4 | E7: Not available yet | F7: Not available yet | G7: Not available yet | H7: Not available yet | I7: Not available yet | J7: Not available yet | K7: 4 | L7: Not available yet | M7: Not available yet | N7: Not available yet | O7: Not available yet | P7: Not available yet | Q7: Not available yet | R7: Not available yet | S7: No data
A8: 6. Child protection and child rights | B8: 2 | C8: 1 | D8: 4 | E8: Not available yet | F8: Not available yet | G8: Not available yet | H8: Not available yet | I8: Not available yet | J8: Not available yet | K8: 4 | L8: Not available yet | M8: Not available yet | N8: Not available yet | O8: Not available yet | P8: Not available yet | Q8: Not available yet | R8: Not available yet | S8: No data
A9: 7. Gender rights | B9: 2 | C9: 2 | D9: 3 | E9: Not available yet | F9: Not available yet | G9: Not available yet | H9: Not available yet | I9: Not available yet | J9: Not available yet | K9: 1 | L9: Not available yet | M9: Not available yet | N9: Not available yet | O9: Not available yet | P9: Not available yet | Q9: Not available yet | R9: Not available yet | S9: No data
A10: 8. Non-discrimination | B10: 4 | C10: 3 | D10: 3 | E10: Not available yet | F10: Not available yet | G10: Not available yet | H10: Not available yet | I10: Not available yet | J10: Not available yet | K10: 3 | L10: Not available yet | M10: Not available yet | N10: Not available yet | O10: Not available yet | P10: Not available yet | Q10: Not available yet | R10: Not available yet | S10: No data
A11: 9. Self-determination | B11: 4 | C11: 3 | D11: 3 | E11: Not available yet | F11: Not available yet | G11: Not available yet | H11: Not available yet | I11: Not available yet | J11: Not available yet | K11: 3 | L11: Not available yet | M11: Not available yet | N11: Not available yet | O11: Not available yet | P11: Not available yet | Q11: Not available yet | R11: Not available yet | S11: No data
A12: 10. Climate emissions and deforestation | B12: 1 | C12: 1 | D12: 1 | E12: Not available yet | F12: Not available yet | G12: Not available yet | H12: Not available yet | I12: Not available yet | J12: Not available yet | K12: 3 | L12: Not available yet | M12: Not available yet | N12: Not available yet | O12: Not available yet | P12: Not available yet | Q12: Not available yet | R12: Not available yet | S12: No data
A13: 11. Water and biodiversity | B13: 1 | C13: 3 | D13: 1 | E13: Not available yet | F13: Not available yet | G13: Not available yet | H13: Not available yet | I13: Not available yet | J13: Not available yet | K13: 1 | L13: Not available yet | M13: Not available yet | N13: Not available yet | O13: Not available yet | P13: Not available yet | Q13: Not available yet | R13: Not available yet | S13: No data
A14: 12. Freedom of speech, thought and public participation | B14: 4 | C14: 3 | D14: 3 | E14: Not available yet | F14: Not available yet | G14: Not available yet | H14: Not available yet | I14: Not available yet | J14: Not available yet | K14: 4 | L14: Not available yet | M14: Not available yet | N14: Not available yet | O14: Not available yet | P14: Not available yet | Q14: Not available yet | R14: Not available yet | S14: No data
A15: 13. Privacy | B15: 4 | C15: 4 | D15: 4 | E15: Not available yet | F15: Not available yet | G15: Not available yet | H15: Not available yet | I15: Not available yet | J15: Not available yet | K15: 3 | L15: Not available yet | M15: Not available yet | N15: Not available yet | O15: Not available yet | P15: Not available yet | Q15: Not available yet | R15: Not available yet | S15: No data
A17: Dropdown menu for SPOs | C17: Dropdown menu for SPOs | E17: Dropdown menu for HRs | G17: Green | H17: #B5EE00 | I17: cell values between 3.5-4 | K17: How to match HR areas to country data?
A18: Bananas | C18: Bananas | E18: Living income, living wage | G18: Yellow | H18: #FFFF66 | I18: 2.5-3.49 | K18: 13 human rights areas - country data
A19: Coffee | C19: Coffee | E19: Working conditions | G19: Orange | H19: #FF8000 | I19: 1.5-2.49 | K19: Living income, living wage - St of living
A20: Cocoa | C20: Cocoa | E20: Health | G20: Pink | H20: #FF4571 | I20: 1-1.49 | K20: Working conditions - workers rights
A21: Honey | C21: Honey | E21: Freedom of association and collective bargaining | K21: Health - St of living
A22: Cereals & rice (not available yet) | C22: No second product | E22: Forced labour | K22: Freedom of association and collective bargaining - workers rights
A23: Cotton (not available yet) | C23: Cereals & rice (not available yet) | E23: Child protection and child rights | K23: Forced labour - forced labour
A24: Fruit (not available yet) | C24: Cotton (not available yet) | E24: Gender rights | K24: Child protection and child rights - child rights
A25: Gold (not available yet) | C25: Fruit (not available yet) | E25: Non-discrimination | K25: Gender rights - gender rights
A26: Herbs & spices (not available yet) | C26: Gold (not available yet) | E26: Self-determination | K26: Non-discrimination - discr
A27: Nuts & oils (not available yet) | C27: Herbs & spices (not available yet) | E27: Climate emissions and deforestation | K27: Self-determination - self-det
A28: Sugar (not available yet) | C28: Nuts & oils (not available yet) | E28: Water and biodiversity | K28: Climate resilience - climate & forest
A29: Tea (not available yet) | C29: Sugar (not available yet) | E29: Freedom of speech, thought and public participation | K29: Water and biodiversity - water & biodiv
A30: Vegetables (not available yet) | C30: Tea (not available yet) | E30: Privacy | K30: Freedom of speech, thought and public participation - civil liberties
C31: Vegetables (not available yet) | K31: Privacy - civil liberties
A34: Dropdown menu for country selection | E34: Seriousness
A35: Argentina | E35: Very serious | F35: Serious | G35: Somewhat serious | H35: Not serious
A36: Bangladesh | C36: Likelihood | D36: Very common | E36: 1 | F36: 1 | G36: 2 | H36: 3
A37: Belize | D37: Common | E37: 1 | F37: 1 | G37: 2 | H37: 3
A38: Benin | D38: Medium | E38: 1 | F38: 2 | G38: 3 | H38: 4
A39: Bolivia | D39: Low | E39: 2 | F39: 2 | G39: 3 | H39: 4
A40: Brazil
A41: Burkina Faso
A42: Burundi
A43: Cameroon
...

Sheet CountryRisks2
C1: inequality_adjusted_human_development_index | F1: multi_dimensional_poverty_index | I1: number_of_poor_at_320day | L1: St of living | M1: global_rights_index | P1: working_poverty_at_190day__total | S1: Workers' rights | T1: gender_inequality_index | W1: working_poverty_at_190day__women | Z1: Gender | AA1: child_labor | AD1: children_in_child_labor | AG1: rural_primary_school_completion | AJ1: rural_4er_secondary_school_completion | AM1: Child rights | AN1: forced_labor | AQ1: prevalance_of_modern_slavery | AT1: Forced labour | AU1: equal_treatment_and_abscence_of_discrimination | AX1: sdg_indicator_on_migration_policies | BA1: un_population_of_concern | BD1: Discrimination | BE1: peoples_under_threat | BH1: legal_security_of _indegenous_lands | BK1: Self-determination | BL1: civil_liberties_rating | BO1: fragile_states_index | BR1: Civil liberties | BS1: global_climate_risk_index | BV1: forest_area_change_in_2010_2020_as_percentage | BY1: forest_area_change_in_2010_2020_by_hectares | CB1: Climate | CC1: land_degradation_as_percentage_in_2010_2015 | CF1: baseline_water_stress | CI1: people_in_water_scarce_areas | CL1: Water
A2: Country name | B2: Country code | C2: value | D2: risk (in words) | E2: risk (1-4) | F2: value | G2: risk (in words) | H2: risk (1-4) | I2: value | J2: risk (in words) | K2: risk (1-4) | L2: Average | M2: value | N2: risk (in words) | O2: risk (1-4) | P2: value | Q2: risk (in words) | R2: risk (1-4) | S2: Average | T2: value | U2: risk (in words) | V2: risk (1-4) | W2: value | X2: risk (in words) | Y2: risk (1-4) | Z2: Average | AA2: value | AB2: risk (in words) | AC2: risk (1-4) | AD2: value | AE2: risk (in words) | AF2: risk (1-4) | AG2: value | AH2: risk (in words) | AI2: risk (1-4) | AJ2: value | AK2: risk (in words) | AL2: risk (1-4) | AM2: Average | AN2: value | AO2: risk (in words) | AP2: risk (1-4) | AQ2: value | AR2: risk (in words) | AS2: risk (1-4) | AT2: Average | AU2: value | AV2: risk (in words) | AW2: risk (1-4) | AX2: value | AY2: risk (in words) | AZ2: risk (1-4) | BA2: value | BB2: risk (in words) | BC2: risk (1-4) | BD2: Average | BE2: value | BF2: risk (in words) | BG2: risk (1-4) | BH2: value | BI2: risk (in words) | BJ2: risk (1-4) | BK2: Average | BL2: value | BM2: risk (in words) | BN2: risk (1-4) | BO2: value | BP2: risk (in words) | BQ2: risk (1-4) | BR2: Average | BS2: value | BT2: risk (in words) | BU2: risk (1-4) | BV2: value | BW2: risk (in words) | BX2: risk (1-4) | BY2: value | BZ2: risk (in words) | CA2: risk (1-4) | CB2: Average | CC2: value | CD2: risk (in words) | CE2: risk (1-4) | CF2: value | CG2: risk (in words) | CH2: risk (1-4) | CI2: value | CJ2: risk (in words) | CK2: risk (1-4) | CL2: Average
A3: Algeria | B3: DZ | C3: 0.478 | D3: veryHigh | E3: 1 | F3: 0.0002 | G3: low | H3: 4 | I3: 4,0% | J3: low | K3: 4 | L3: {=IFERROR(AVERAGE(E3,H3,K3),N/A)} -> 3 | M3: 5 | N3: veryHigh | O3: 1 | P3: N/A | Q3: N/A | R3: N/A | S3: =IFERROR(AVERAGE(O3,R3),"N/A") -> 1 | T3: 126 | U3: high | V3: 2 | W3: 0.001 | X3: low | Y3: 4 | Z3: =IFERROR(AVERAGE(V3,Y3),"N/A") -> 3 | AA3: 0.036 | AB3: low | AC3: 4 | AD3: 0.03 | AE3: low | AF3: 4 | AG3: 0.92 | AH3: low | AI3: 4 | AJ3: 0.6 | AK3: high | AL3: 2 | AM3: =IFERROR(AVERAGE(AC3,AF3,AI3,AL3),"N/A") -> 3.5 | AN3: N/A | AO3: N/A | AP3: N/A | AQ3: 115 | AR3: medium | AS3: 3 | AT3: =IFERROR(AVERAGE(AP3,AS3),"N/A") -> 3 | AU3: 0.58 | AV3: medium | AW3: 3 | AX3: N/A | AY3: N/A | AZ3: N/A | BA3: 100020 | BB3: high | BC3: 2 | BD3: =IFERROR(AVERAGE(AW3,AZ3,BC3),"N/A") -> 2.5 | BE3: 34 | BF3: high | BG3: 2 | BH3: 2.9 | BI3: medium | BJ3: 3 | BK3: =IFERROR(AVERAGE(BG3,BJ3),"N/A") -> 2.5 | BL3: 22 | BM3: high | BN3: 2 | BO3: 72.2 | BP3: medium | BQ3: 3 | BR3: =IFERROR(AVERAGE(BN3,BQ3),"N/A") -> 2.5 | BS3: 125 | BT3: low | BU3: 4 | BV3: 0.0016 | BW3: low | BX3: 4 | BY3: 3.1 | BZ3: low | CA3: 4 | CB3: =IFERROR(AVERAGE(BU3,BX3,CA3),"N/A") -> 4 | CC3: 1 | CD3: low | CE3: 4 | CF3: 3 | CG3: high | CH3: 2 | CI3: 0.68 | CJ3: high | CK3: 2 | CL3: =IFERROR(AVERAGE(CE3,CH3,CK3),"N/A") -> 2.6666667
A4: Andorra | B4: AD | C4: N/A | D4: N/A | E4: N/A | F4: N/A | G4: N/A | H4: N/A | I4: N/A | J4: N/A | K4: N/A | L4: =IFERROR(AVERAGE(E4,H4,K4),"N/A") -> N/A | M4: N/A | N4: N/A | O4: N/A | P4: N/A | Q4: N/A | R4: N/A | S4: =IFERROR(AVERAGE(O4,R4),"N/A") -> N/A | T4: N/A | U4: N/A | V4: N/A | W4: N/A | X4: N/A | Y4: N/A | Z4: =IFERROR(AVERAGE(V4,Y4),"N/A") -> N/A | AA4: N/A | AB4: N/A | AC4: N/A | AD4: N/A | AE4: N/A | AF4: N/A | AG4: N/A | AH4: N/A | AI4: N/A | AJ4: N/A | AK4: N/A | AL4: N/A | AM4: =IFERROR(AVERAGE(AC4,AF4,AI4,AL4),"N/A") -> N/A | AN4: N/A | AO4: N/A | AP4: N/A | AQ4: N/A | AR4: N/A | AS4: N/A | AT4: =IFERROR(AVERAGE(AP4,AS4),"N/A") -> N/A | AU4: N/A | AV4: N/A | AW4: N/A | AX4: N/A | AY4: N/A | AZ4: N/A | BA4: N/A | BB4: N/A | BC4: N/A | BD4: =IFERROR(AVERAGE(AW4,AZ4,BC4),"N/A") -> N/A | BE4: N/A | BF4: N/A | BG4: N/A | BH4: N/A | BI4: N/A | BJ4: N/A | BK4: =IFERROR(AVERAGE(BG4,BJ4),"N/A") -> N/A | BL4: 55 | BM4: low | BN4: 4 | BO4: N/A | BP4: N/A | BQ4: N/A | BR4: =IFERROR(AVERAGE(BN4,BQ4),"N/A") -> 4 | BS4: N/A | BT4: N/A | BU4: N/A | BV4: 0 | BW4: low | BX4: 4 | BY4: 0 | BZ4: low | CA4: 4 | CB4: =IFERROR(AVERAGE(BU4,BX4,CA4),"N/A") -> 4 | CC4: N/A | CD4: N/A | CE4: N/A | CF4: 3 | CG4: high | CH4: 2 | CI4: N/A | CJ4: N/A | CK4: N/A | CL4: =IFERROR(AVERAGE(CE4,CH4,CK4),"N/A") -> 2
A5: Argentina | B5: AR | C5: 0.842 | D5: low | E5: 4 | F5: N/A | G5: N/A | H5: N/A | I5: 3,5% | J5: low | K5: 4 | L5: =IFERROR(AVERAGE(E5,H5,K5),"N/A") -> 4 | M5: 3 | N5: medium | O5: 3 | P5: 0.004 | Q5: low | R5: 4 | S5: =IFERROR(AVERAGE(O5,R5),"N/A") -> 3.5 | T5: 69 | U5: medium | V5: 3 | W5: 0.005 | X5: low | Y5: 4 | Z5: =IFERROR(AVERAGE(V5,Y5),"N/A") -> 3.5 | AA5: 0.053 | AB5: medium | AC5: 3 | AD5: N/A | AE5: N/A | AF5: N/A | AG5: N/A | AH5: N/A | AI5: N/A | AJ5: N/A | AK5: N/A | AL5: N/A | AM5: =IFERROR(AVERAGE(AC5,AF5,AI5,AL5),"N/A") -> 3 | AN5: NotIdentifiedinAgriculture | AO5: medium | AP5: 3 | AQ5: 157 | AR5: low | AS5: 4 | AT5: =IFERROR(AVERAGE(AP5,AS5),"N/A") -> 3.5 | AU5: 0.65 | AV5: medium | AW5: 3 | AX5: Fullymeets | AY5: low | AZ5: 4 | BA5: 249026 | BB5: high | BC5: 2 | BD5: =IFERROR(AVERAGE(AW5,AZ5,BC5),"N/A") -> 3 | BE5: 90 | BF5: low | BG5: 4 | BH5: 3.5 | BI5: veryHigh | BJ5: 1 | BK5: =IFERROR(AVERAGE(BG5,BJ5),"N/A") -> 2.5 | BL5: 49 | BM5: medium | BN5: 3 | BO5: 47.9 | BP5: low | BQ5: 4 | BR5: =IFERROR(AVERAGE(BN5,BQ5),"N/A") -> 3.5 | BS5: 55 | BT5: medium | BU5: 3 | BV5: -0.0056 | BW5: veryHigh | BX5: 1 | BY5: -164.1 | BZ5: high | CA5: 2 | CB5: =IFERROR(AVERAGE(BU5,BX5,CA5),"N/A") -> 2 | CC5: 39 | CD5: veryHigh | CE5: 1 | CF5: 1 | CG5: medium | CH5: 3 | CI5: 0.35 | CJ5: medium | CK5: 3 | CL5: =IFERROR(AVERAGE(CE5,CH5,CK5),"N/A") -> 2.3333333
A6: Australia | B6: AU | C6: 0.951 | D6: low | E6: 4 | F6: N/A | G6: N/A | H6: N/A | I6: 0,7% | J6: low | K6: 4 | L6: =IFERROR(AVERAGE(E6,H6,K6),"N/A") -> 4 | M6: 4 | N6: high | O6: 2 | P6: N/A | Q6: N/A | R6: N/A | S6: =IFERROR(AVERAGE(O6,R6),"N/A") -> 2 | T6: 19 | U6: low | V6: 4 | W6: N/A | X6: N/A | Y6: N/A | Z6: =IFERROR(AVERAGE(V6,Y6),"N/A") -> 4 | AA6: N/A | AB6: N/A | AC6: N/A | AD6: N/A | AE6: N/A | AF6: N/A | AG6: N/A | AH6: N/A | AI6: N/A | AJ6: N/A | AK6: N/A | AL6: N/A | AM6: =IFERROR(AVERAGE(AC6,AF6,AI6,AL6),"N/A") -> N/A | AN6: N/A | AO6: N/A | AP6: N/A | AQ6: 163 | AR6: low | AS6: 4 | AT6: =IFERROR(AVERAGE(AP6,AS6),"N/A") -> 4 | AU6: 0.66 | AV6: medium | AW6: 3 | AX6: Fullymeets | AY6: low | AZ6: 4 | BA6: 153642 | BB6: high | BC6: 2 | BD6: =IFERROR(AVERAGE(AW6,AZ6,BC6),"N/A") -> 3 | BE6: N/A | BF6: N/A | BG6: N/A | BH6: 2 | BI6: medium | BJ6: 3 | BK6: =IFERROR(AVERAGE(BG6,BJ6),"N/A") -> 3 | BL6: 56 | BM6: low | BN6: 4 | BO6: 22.7 | BP6: low | BQ6: 4 | BR6: =IFERROR(AVERAGE(BN6,BQ6),"N/A") -> 4 | BS6: 19 | BT6: high | BU6: 2 | BV6: 0.0034 | BW6: low | BX6: 4 | BY6: 445.9 | BZ6: low | CA6: 4 | CB6: =IFERROR(AVERAGE(BU6,BX6,CA6),"N/A") -> 3.3333333 | CC6: N/A | CD6: N/A | CE6: N/A | CF6: 2 | CG6: medium | CH6: 3 | CI6: 0.29 | CJ6: medium | CK6: 3 | CL6: =IFERROR(AVERAGE(CE6,CH6,CK6),"N/A") -> 3
A7: Austria | B7: AT | C7: 0.916 | D7: low | E7: 4 | F7: N/A | G7: N/A | H7: N/A | I7: 0,7% | J7: low | K7: 4 | L7: =IFERROR(AVERAGE(E7,H7,K7),"N/A") -> 4 | M7: 1 | N7: low | O7: 4 | P7: N/A | Q7: N/A | R7: N/A | S7: =IFERROR(AVERAGE(O7,R7),"N/A") -> 4 | T7: 12 | U7: low | V7: 4 | W7: N/A | X7: N/A | Y7: N/A | Z7: =IFERROR(AVERAGE(V7,Y7),"N/A") -> 4 | AA7: N/A | AB7: N/A | AC7: N/A | AD7: N/A | AE7: N/A | AF7: N/A | AG7: N/A | AH7: N/A | AI7: N/A | AJ7: N/A | AK7: N/A | AL7: N/A | AM7: =IFERROR(AVERAGE(AC7,AF7,AI7,AL7),"N/A") -> N/A | AN7: N/A | AO7: N/A | AP7: N/A | AQ7: 144 | AR7: low | AS7: 4 | AT7: =IFERROR(AVERAGE(AP7,AS7),"N/A") -> 4 | AU7: 0.73 | AV7: medium | AW7: 3 | AX7: FullyMeets | AY7: low | AZ7: 4 | BA7: 183523 | BB7: high | BC7: 2 | BD7: =IFERROR(AVERAGE(AW7,AZ7,BC7),"N/A") -> 3 | BE7: N/A | BF7: N/A | BG7: N/A | BH7: N/A | BI7: N/A | BJ7: N/A | BK7: =IFERROR(AVERAGE(BG7,BJ7),"N/A") -> N/A | BL7: 56 | BM7: low | BN7: 4 | BO7: 25.4 | BP7: low | BQ7: 4 | BR7: =IFERROR(AVERAGE(BN7,BQ7),"N/A") -> 4 | BS7: 47 | BT7: high | BU7: 2 | BV7: 0.0009 | BW7: low | BX7: 4 | BY7: 3.6 | BZ7: low | CA7: 4 | CB7: =IFERROR(AVERAGE(BU7,BX7,CA7),"N/A") -> 3.3333333 | CC7: N/A | CD7: N/A | CE7: N/A | CF7: 0 | CG7: low | CH7: 4 | CI7: 0 | CJ7: low | CK7: 4 | CL7: =IFERROR(AVERAGE(CE7,CH7,CK7),"N/A") -> 4
A8: Bahrain | B8: BH | C8: 0.875 | D8: low | E8: 4 | F8: N/A | G8: N/A | H8: N/A | I8: N/A | J8: N/A | K8: N/A | L8: =IFERROR(AVERAGE(E8,H8,K8),"N/A") -> 4 | M8: 5 | N8: veryHigh | O8: 1 | P8: N/A | Q8: N/A | R8: N/A | S8: =IFERROR(AVERAGE(O8,R8),"N/A") -> 1 | T8: 46 | U8: low | V8: 4 | W8: N/A | X8: N/A | Y8: N/A | Z8: =IFERROR(AVERAGE(V8,Y8),"N/A") -> 4 | AA8: N/A | AB8: N/A | AC8: N/A | AD8: N/A | AE8: N/A | AF8: N/A | AG8: N/A | AH8: N/A | AI8: N/A | AJ8: N/A | AK8: N/A | AL8: N/A | AM8: =IFERROR(AVERAGE(AC8,AF8,AI8,AL8),"N/A") -> N/A | AN8: N/A | AO8: N/A | AP8: N/A | AQ8: 136 | AR8: medium | AS8: 3 | AT8: =IFERROR(AVERAGE(AP8,AS8),"N/A") -> 3 | AU8: N/A | AV8: N/A | AW8: N/A | AX8: Meets | AY8: medium | AZ8: 3 | BA8: 446 | BB8: low | BC8: 4 | BD8: =IFERROR(AVERAGE(AW8,AZ8,BC8),"N/A") -> 3.5 | BE8: 82 | BF8: low | BG8: 4 | BH8: N/A | BI8: N/A | BJ8: N/A | BK8: =IFERROR(AVERAGE(BG8,BJ8),"N/A") -> 4 | BL8: 10 | BM8: veryHigh | BN8: 1 | BO8: 66.6 | BP8: medium | BQ8: 3 | BR8: =IFERROR(AVERAGE(BN8,BQ8),"N/A") -> 2 | BS8: 130 | BT8: low | BU8: 4 | BV8: 0.0302 | BW8: low | BX8: 4 | BY8: N/A | BZ8: N/A | CA8: N/A | CB8: =IFERROR(AVERAGE(BU8,BX8,CA8),"N/A") -> 4 | CC8: N/A | CD8: N/A | CE8: N/A | CF8: 4 | CG8: veryHigh | CH8: 1 | CI8: 1 | CJ8: veryHigh | CK8: 1 | CL8: =IFERROR(AVERAGE(CE8,CH8,CK8),"N/A") -> 1
A9: Bangladesh | B9: BD | C9: 0.661 | D9: high | E9: 2 | F9: 0.0647 | G9: medium | H9: 3 | I9: 51,6% | J9: veryHigh | K9: 1 | L9: =IFERROR(AVERAGE(E9,H9,K9),"N/A") -> 2 | M9: 5 | N9: veryHigh | O9: 1 | P9: 0.04 | Q9: medium | R9: 3 | S9: =IFERROR(AVERAGE(O9,R9),"N/A") -> 2 | T9: 131 | U9: high | V9: 2 | W9: 0.062 | X9: medium | Y9: 3 | Z9: =IFERROR(AVERAGE(V9,Y9),"N/A") -> 2.5 | AA9: 0.092 | AB9: medium | AC9: 3 | AD9: 0.07 | AE9: medium | AF9: 3 | AG9: 0.83 | AH9: medium | AI9: 3 | AJ9: 0.64 | AK9: medium | AL9: 3 | AM9: =IFERROR(AVERAGE(AC9,AF9,AI9,AL9),"N/A") -> 3 | AN9: NotIdentifiedinAgriculture | AO9: medium | AP9: 3 | AQ9: 92 | AR9: medium | AS9: 3 | AT9: =IFERROR(AVERAGE(AP9,AS9),"N/A") -> 3 | AU9: 0.42 | AV9: high | AW9: 2 | AX9: PartiallyMeets | AY9: high | AZ9: 2 | BA9: 2012646 | BB9: veryHigh | BC9: 1 | BD9: =IFERROR(AVERAGE(AW9,AZ9,BC9),"N/A") -> 1.6666667 | BE9: 56 | BF9: medium | BG9: 3 | BH9: 4 | BI9: veryHigh | BJ9: 1 | BK9: =IFERROR(AVERAGE(BG9,BJ9),"N/A") -> 2 | BL9: 24 | BM9: high | BN9: 2 | BO9: 84.5 | BP9: high | BQ9: 2 | BR9: =IFERROR(AVERAGE(BN9,BQ9),"N/A") -> 2 | BS9: 13 | BT9: high | BU9: 2 | BV9: -0.0003 | BW9: medium | BX9: 3 | BY9: -0.5 | BZ9: medium | CA9: 3 | CB9: =IFERROR(AVERAGE(BU9,BX9,CA9),"N/A") -> 2.6666667 | CC9: 65 | CD9: veryHigh | CE9: 1 | CF9: 0 | CG9: low | CH9: 4 | CI9: 0.33 | CJ9: medium | CK9: 3 | CL9: =IFERROR(AVERAGE(CE9,CH9,CK9),"N/A") -> 2.6666667
A10: Belgium | B10: BE | C10: 0.937 | D10: low | E10: 4 | F10: N/A | G10: N/A | H10: N/A | I10: 0,1% | J10: low | K10: 4 | L10: =IFERROR(AVERAGE(E10,H10,K10),"N/A") -> 4 | M10: 3 | N10: medium | O10: 3 | P10: N/A | Q10: N/A | R10: N/A | S10: =IFERROR(AVERAGE(O10,R10),"N/A") -> 3 | T10: 10 | U10: low | V10: 4 | W10: N/A | X10: N/A | Y10: N/A | Z10: =IFERROR(AVERAGE(V10,Y10),"N/A") -> 4 | AA10: N/A | AB10: N/A | AC10: N/A | AD10: N/A | AE10: N/A | AF10: N/A | AG10: N/A | AH10: N/A | AI10: N/A | AJ10: N/A | AK10: N/A | AL10: N/A | AM10: =IFERROR(AVERAGE(AC10,AF10,AI10,AL10),"N/A") -> N/A | AN10: N/A | AO10: N/A | AP10: N/A | AQ10: 135 | AR10: medium | AS10: 3 | AT10: =IFERROR(AVERAGE(AP10,AS10),"N/A") -> 3 | AU10: 0.8 | AV10: low | AW10: 4 | AX10: Meets | AY10: medium | AZ10: 3 | BA10: 105050 | BB10: high | BC10: 2 | BD10: =IFERROR(AVERAGE(AW10,AZ10,BC10),"N/A") -> 3 | BE10: N/A | BF10: N/A | BG10: N/A | BH10: N/A | BI10: N/A | BJ10: N/A | BK10: =IFERROR(AVERAGE(BG10,BJ10),"N/A") -> N/A | BL10: 57 | BM10: low | BN10: 4 | BO10: 31.9 | BP10: low | BQ10: 4 | BR10: =IFERROR(AVERAGE(BN10,BQ10),"N/A") -> 4 | BS10: 64 | BT10: medium | BU10: 3 | BV10: -0.0001 | BW10: medium | BX10: 3 | BY10: -0.1 | BZ10: medium | CA10: 3 | CB10: =IFERROR(AVERAGE(BU10,BX10,CA10),"N/A") -> 3 | CC10: 11 | CD10: medium | CE10: 3 | CF10: 3 | CG10: high | CH10: 2 | CI10: 0.1 | CJ10: low | CK10: 4 | CL10: =IFERROR(AVERAGE(CE10,CH10,CK10),"N/A") -> 3
A11: Belize | B11: BZ | C11: 0.683 | D11: high | E11: 2 | F11: 0.0063 | G11: low | H11: 4 | I11: 37,0% | J11: high | K11: 2 | L11: =IFERROR(AVERAGE(E11,H11,K11),"N/A") -> 2.6666667 | M11: 3 | N11: medium | O11: 3 | P11: 0.134 | Q11: high | R11: 2 | S11: =IFERROR(AVERAGE(O11,R11),"N/A") -> 2.5 | T11: 86 | U11: medium | V11: 3 | W11: 0.093 | X11: medium | Y11: 3 | Z11: =IFERROR(AVERAGE(V11,Y11),"N/A") -> 3 | AA11: 0.016 | AB11: low | AC11: 4 | AD11: 0.03 | AE11: low | AF11: 4 | AG11: 0.95 | AH11: low | AI11: 4 | AJ11: 0.49 | AK11: high | AL11: 2 | AM11: =IFERROR(AVERAGE(AC11,AF11,AI11,AL11),"N/A") -> 3.5 | AN11: N/A | AO11: N/A | AP11: N/A | AQ11: N/A | AR11: N/A | AS11: N/A | AT11: =IFERROR(AVERAGE(AP11,AS11),"N/A") -> N/A | AU11: 0.52 | AV11: medium | AW11: 3 | AX11: PartiallyMeets | AY11: high | AZ11: 2 | BA11: 5553 | BB11: medium | BC11: 3 | BD11: =IFERROR(AVERAGE(AW11,AZ11,BC11),"N/A") -> 2.6666667 | BE11: N/A | BF11: N/A | BG11: N/A | BH11: 3.9 | BI11: veryHigh | BJ11: 1 | BK11: =IFERROR(AVERAGE(BG11,BJ11),"N/A") -> 1 | BL11: 53 | BM11: low | BN11: 4 | BO11: 62.1 | BP11: medium | BQ11: 3 | BR11: =IFERROR(AVERAGE(BN11,BQ11),"N/A") -> 3.5 | BS11: 130 | BT11: low | BU11: 4 | BV11: -0.0085 | BW11: veryHigh | BX11: 1 | BY11: -11.4 | BZ11: medium | CA11: 3 | CB11: =IFERROR(AVERAGE(BU11,BX11,CA11),"N/A") -> 2.6666667 | CC11: 81 | CD11: veryHigh | CE11: 1 | CF11: 0 | CG11: low | CH11: 4 | CI11: 0 | CJ11: low | CK11: 4 | CL11: =IFERROR(AVERAGE(CE11,CH11,CK11),"N/A") -> 3
A12: Benin | B12: BJ | C12: 0.525 | D12: veryHigh | E12: 1 | F12: 0.409 | G12: high | H12: 2 | I12: 53,2% | J12: veryHigh | K12: 1 | L12: =IFERROR(AVERAGE(E12,H12,K12),"N/A") -> 1.3333333 | M12: 4 | N12: high | O12: 2 | P12: 0.373 | Q12: high | R12: 2 | S12: =IFERROR(AVERAGE(O12,R12),"N/A") -> 2 | T12: 152 | U12: high | V12: 2 | W12: 0.289 | X12: high | Y12: 2 | Z12: =IFERROR(AVERAGE(V12,Y12),"N/A") -> 2 | AA12: 0.247 | AB12: high | AC12: 2 | AD12: 0.25 | AE12: veryHigh | AF12: 1 | AG12: 0.41 | AH12: veryHigh | AI12: 1 | AJ12: 0.12 | AK12: veryHigh | AL12: 1 | AM12: =IFERROR(AVERAGE(AC12,AF12,AI12,AL12),"N/A") -> 1.25 | AN12: Yes | AO12: veryHigh | AP12: 1 | AQ12: 66 | AR12: high | AS12: 2 | AT12: =IFERROR(AVERAGE(AP12,AS12),"N/A") -> 1.5 | AU12: 0.69 | AV12: medium | AW12: 3 | AX12: N/A | AY12: N/A | AZ12: N/A | BA12: 2242 | BB12: low | BC12: 4 | BD12: =IFERROR(AVERAGE(AW12,AZ12,BC12),"N/A") -> 3.5 | BE12: 99 | BF12: low | BG12: 4 | BH12: N/A | BI12: N/A | BJ12: N/A | BK12: =IFERROR(AVERAGE(BG12,BJ12),"N/A") -> 4 | BL12: 42 | BM12: medium | BN12: 3 | BO12: 72.5 | BP12: medium | BQ12: 3 | BR12: =IFERROR(AVERAGE(BN12,BQ12),"N/A") -> 3 | BS12: 130 | BT12: low | BU12: 4 | BV12: -0.0147 | BW12: veryHigh | BX12: 1 | BY12: -50 | BZ12: medium | CA12: 3 | CB12: =IFERROR(AVERAGE(BU12,BX12,CA12),"N/A") -> 2.6666667 | CC12: 53 | CD12: veryHigh | CE12: 1 | CF12: 0 | CG12: low | CH12: 4 | CI12: 0 | CJ12: low | CK12: 4 | CL12: =IFERROR(AVERAGE(CE12,CH12,CK12),"N/A") -> 3
A13: Bolivia | B13: BO | C13: 0.692 | D13: high | E13: 2 | F13: 0.019 | G13: low | H13: 4 | I13: 6,2% | J13: medium | K13: 3 | L13: =IFERROR(AVERAGE(E13,H13,K13),"N/A") -> 3 | M13: 3 | N13: medium | O13: 3 | P13: 0.044 | Q13: medium | R13: 3 | S13: =IFERROR(AVERAGE(O13,R13),"N/A") -> 3 | T13: 99 | U13: medium | V13: 3 | W13: 0.044 | X13: medium | Y13: 3 | Z13: =IFERROR(AVERAGE(V13,Y13),"N/A") -> 3 | AA13: 0.154 | AB13: high | AC13: 2 | AD13: 0.14 | AE13: medium | AF13: 3 | AG13: 0.86 | AH13: medium | AI13: 3 | AJ13: 0.76 | AK13: medium | AL13: 3 | AM13: =IFERROR(AVERAGE(AC13,AF13,AI13,AL13),"N/A") -> 2.75 | AN13: Yes | AO13: veryHigh | AP13: 1 | AQ13: 129 | AR13: medium | AS13: 3 | AT13: =IFERROR(AVERAGE(AP13,AS13),"N/A") -> 2 | AU13: 0.39 | AV13: high | AW13: 2 | AX13: PartiallyMeets | AY13: high | AZ13: 2 | BA13: 22172 | BB13: medium | BC13: 3 | BD13: =IFERROR(AVERAGE(AW13,AZ13,BC13),"N/A") -> 2.3333333 | BE13: 74 | BF13: low | BG13: 4 | BH13: 1.4 | BI13: low | BJ13: 4 | BK13: =IFERROR(AVERAGE(BG13,BJ13),"N/A") -> 4 | BL13: 39 | BM13: medium | BN13: 3 | BO13: 73.4 | BP13: medium | BQ13: 3 | BR13: =IFERROR(AVERAGE(BN13,BQ13),"N/A") -> 3 | BS13: 10 | BT13: veryHigh | BU13: 1 | BV13: -0.0043 | BW13: high | BX13: 2 | BY13: -225.2 | BZ13: high | CA13: 2 | CB13: =IFERROR(AVERAGE(BU13,BX13,CA13),"N/A") -> 1.6666667 | CC13: 18 | CD13: medium | CE13: 3 | CF13: 1 | CG13: medium | CH13: 3 | CI13: 0.28 | CJ13: medium | CK13: 3 | CL13: =IFERROR(AVERAGE(CE13,CH13,CK13),"N/A") -> 3
A14: Bosnia and Herzegovina | B14: BA | C14: 0.78 | D14: medium | E14: 3 | F14: N/A | G14: N/A | H14: N/A | I14: 1,0% | J14: low | K14: 4 | L14: =IFERROR(AVERAGE(E14,H14,K14),"N/A") -> 3.5 | M14: 3 | N14: medium | O14: 3 | P14: 0.0001 | Q14: low | R14: 4 | S14: =IFERROR(AVERAGE(O14,R14),"N/A") -> 3.5 | T14: 38 | U14: low | V14: 4 | W14: 0 | X14: low | Y14: 4 | Z14: =IFERROR(AVERAGE(V14,Y14),"N/A") -> 4 | AA14: 0.089 | AB14: medium | AC14: 3 | AD14: N/A | AE14: N/A | AF14: N/A | AG14: 0.99 | AH14: low | AI14: 4 | AJ14: 0.96 | AK14: low | AL14: 4 | AM14: =IFERROR(AVERAGE(AC14,AF14,AI14,AL14),"N/A") -> 3.6666667 | AN14: N/A | AO14: N/A | AP14: N/A | AQ14: 98 | AR14: medium | AS14: 3 | AT14: =IFERROR(AVERAGE(AP14,AS14),"N/A") -> 3 | AU14: 0.6 | AV14: medium | AW14: 3 | AX14: FullyMeets | AY14: low | AZ14: 4 | BA14: 99147 | BB14: high | BC14: 2 | BD14: =IFERROR(AVERAGE(AW14,AZ14,BC14),"N/A") -> 3 | BE14: 41 | BF14: high | BG14: 2 | BH14: N/A | BI14: N/A | BJ14: N/A | BK14: =IFERROR(AVERAGE(BG14,BJ14),"N/A") -> 2 | BL14: 34 | BM14: high | BN14: 2 | BO14: 73 | BP14: medium | BQ14: 3 | BR14: =IFERROR(AVERAGE(BN14,BQ14),"N/A") -> 2.5 | BS14: 48 | BT14: high | BU14: 2 | BV14: 0.4 | BW14: low | BX14: 4 | BY14: 8.5 | BZ14: low | CA14: 4 | CB14: =IFERROR(AVERAGE(BU14,BX14,CA14),"N/A") -> 3.3333333 | CC14: 4 | CD14: low | CE14: 4 | CF14: 1 | CG14: medium | CH14: 3 | CI14: 0 | CJ14: low | CK14: 4 | CL14: =IFERROR(AVERAGE(CE14,CH14,CK14),"N/A") -> 3.6666667
A15: Brazil | B15: BR | C15: 0.754 | D15: medium | E15: 3 | F15: 0.009 | G15: low | H15: 4 | I15: 5,3% | J15: medium | K15: 3 | L15: =IFERROR(AVERAGE(E15,H15,K15),"N/A") -> 3.3333333 | M15: 5 | N15: veryHigh | O15: 1 | P15: 0.018 | Q15: low | R15: 4 | S15: =IFERROR(AVERAGE(O15,R15),"N/A") -> 2.5 | T15: 94 | U15: medium | V15: 3 | W15: 0.02 | X15: low | Y15: 4 | Z15: =IFERROR(AVERAGE(V15,Y15),"N/A") -> 3.5 | AA15: 0.021 | AB15: low | AC15: 4 | AD15: 0.05 | AE15: medium | AF15: 3 | AG15: 0.92 | AH15: low | AI15: 4 | AJ15: 0.74 | AK15: medium | AL15: 3 | AM15: =IFERROR(AVERAGE(AC15,AF15,AI15,AL15),"N/A") -> 3.5 | AN15: N/A | AO15: N/A | AP15: N/A | AQ15: 142 | AR15: low | AS15: 4 | AT15: =IFERROR(AVERAGE(AP15,AS15),"N/A") -> 4 | AU15: 0.48 | AV15: high | AW15: 2 | AX15: Meets | AY15: medium | AZ15: 3 | BA15: 463789 | BB15: high | BC15: 2 | BD15: =IFERROR(AVERAGE(AW15,AZ15,BC15),"N/A") -> 2.3333333 | BE15: N/A | BF15: N/A | BG15: N/A | BH15: 1.8 | BI15: low | BJ15: 4 | BK15: =IFERROR(AVERAGE(BG15,BJ15),"N/A") -> 4 | BL15: 42 | BM15: medium | BN15: 3 | BO15: 73.9 | BP15: medium | BQ15: 3 | BR15: =IFERROR(AVERAGE(BN15,BQ15),"N/A") -> 3 | BS15: 27 | BT15: high | BU15: 2 | BV15: -0.003 | BW15: high | BX15: 2 | BY15: -1496.1 | BZ15: veryHigh | CA15: 1 | CB15: =IFERROR(AVERAGE(BU15,BX15,CA15),"N/A") -> 1.6666667 | CC15: 27 | CD15: high | CE15: 2 | CF15: 0 | CG15: low | CH15: 4 | CI15: 0.31 | CJ15: medium | CK15: 3 | CL15: =IFERROR(AVERAGE(CE15,CH15,CK15),"N/A") -> 3
A16: Bulgaria | B16: BG | C16: 0.795 | D16: medium | E16: 3 | F16: N/A | G16: N/A | H16: N/A | I16: 2,8% | J16: low | K16: 4 | L16: =IFERROR(AVERAGE(E16,H16,K16),"N/A") -> 3.5 | M16: 3 | N16: medium | O16: 3 | P16: N/A | Q16: N/A | R16: N/A | S16: =IFERROR(AVERAGE(O16,R16),"N/A") -> 3 | T16: 52 | U16: low | V16: 4 | W16: N/A | X16: N/A | Y16: N/A | Z16: =IFERROR(AVERAGE(V16,Y16),"N/A") -> 4 | AA16: N/A | AB16: N/A | AC16: N/A | AD16: N/A | AE16: N/A | AF16: N/A | AG16: N/A | AH16: N/A | AI16: N/A | AJ16: N/A | AK16: N/A | AL16: N/A | AM16: =IFERROR(AVERAGE(AC16,AF16,AI16,AL16),"N/A") -> N/A | AN16: N/A | AO16: N/A | AP16: N/A | AQ16: 78 | AR16: high | AS16: 2 | AT16: =IFERROR(AVERAGE(AP16,AS16),"N/A") -> 2 | AU16: 0.58 | AV16: medium | AW16: 3 | AX16: FullyMeets | AY16: low | AZ16: 4 | BA16: 31497 | BB16: medium | BC16: 3 | BD16: =IFERROR(AVERAGE(AW16,AZ16,BC16),"N/A") -> 3.3333333 | BE16: N/A | BF16: N/A | BG16: N/A | BH16: N/A | BI16: N/A | BJ16: N/A | BK16: =IFERROR(AVERAGE(BG16,BJ16),"N/A") -> N/A | BL16: 46 | BM16: medium | BN16: 3 | BO16: 51.6 | BP16: medium | BQ16: 3 | BR16: =IFERROR(AVERAGE(BN16,BQ16),"N/A") -> 3 | BS16: 119 | BT16: low | BU16: 4 | BV16: 0.0041 | BW16: low | BX16: 4 | BY16: 15.6 | BZ16: low | CA16: 4 | CB16: =IFERROR(AVERAGE(BU16,BX16,CA16),"N/A") -> 4 | CC16: N/A | CD16: N/A | CE16: N/A | CF16: 2 | CG16: medium | CH16: 3 | CI16: 0 | CJ16: low | CK16: 4 | CL16: =IFERROR(AVERAGE(CE16,CH16,CK16),"N/A") -> 3.5
A17: Burkina Faso | B17: BF | C17: 0.449 | D17: veryHigh | E17: 1 | F17: N/A | G17: N/A | H17: N/A | I17: 59,8% | J17: veryHigh | K17: 1 | L17: =IFERROR(AVERAGE(E17,H17,K17),"N/A") -> 1 | M17: 4 | N17: high | O17: 2 | P17: 0.312 | Q17: high | R17: 2 | S17: =IFERROR(AVERAGE(O17,R17),"N/A") -> 2 | T17: 157 | U17: veryHigh | V17: 1 | W17: 0.325 | X17: high | Y17: 2 | Z17: =IFERROR(AVERAGE(V17,Y17),"N/A") -> 1.5 | AA17: 0.357 | AB17: veryHigh | AC17: 1 | AD17: 0.42 | AE17: veryHigh | AF17: 1 | AG17: 0.21 | AH17: veryHigh | AI17: 1 | AJ17: 0.03 | AK17: veryHigh | AL17: 1 | AM17: =IFERROR(AVERAGE(AC17,AF17,AI17,AL17),"N/A") -> 1 | AN17: Yes | AO17: veryHigh | AP17: 1 | AQ17: 76 | AR17: high | AS17: 2 | AT17: =IFERROR(AVERAGE(AP17,AS17),"N/A") -> 1.5 | AU17: 0.67 | AV17: medium | AW17: 3 | AX17: FullyMeets | AY17: low | AZ17: 4 | BA17: 1614399 | BB17: veryHigh | BC17: 1 | BD17: =IFERROR(AVERAGE(AW17,AZ17,BC17),"N/A") -> 2.6666667 | BE17: 38 | BF17: high | BG17: 2 | BH17: 1.4 | BI17: low | BJ17: 4 | BK17: =IFERROR(AVERAGE(BG17,BJ17),"N/A") -> 3 | BL17: 30 | BM17: high | BN17: 2 | BO17: 90.5 | BP17: veryHigh | BQ17: 1 | BR17: =IFERROR(AVERAGE(BN17,BQ17),"N/A") -> 1.5 | BS17: 130 | BT17: low | BU17: 4 | BV17: -0.0077 | BW17: veryHigh | BX17: 1 | BY17: -50 | BZ17: medium | CA17: 3 | CB17: =IFERROR(AVERAGE(BU17,BX17,CA17),"N/A") -> 2.6666667 | CC17: 19 | CD17: medium | CE17: 3 | CF17: 3 | CG17: high | CH17: 2 | CI17: 0.42 | CJ17: high | CK17: 2 | CL17: =IFERROR(AVERAGE(CE17,CH17,CK17),"N/A") -> 2.3333333
A18: Burundi | B18: BI | C18: 0.426 | D18: veryHigh | E18: 1 | F18: 0.461 | G18: high | H18: 2 | I18: 86,7% | J18: veryHigh | K18: 1 | L18: =IFERROR(AVERAGE(E18,H18,K18),"N/A") -> 1.3333333 | M18: 5 | N18: veryHigh | O18: 1 | P18: 0.794 | Q18: veryHigh | R18: 1 | S18: =IFERROR(AVERAGE(O18,R18),"N/A") -> 1 | T18: 127 | U18: high | V18: 2 | W18: 0.7901 | X18: veryHigh | Y18: 1 | Z18: =IFERROR(AVERAGE(V18,Y18),"N/A") -> 1.5 | AA18: 0.332 | AB18: veryHigh | AC18: 1 | AD18: 0.31 | AE18: veryHigh | AF18: 1 | AG18: 0.47 | AH18: veryHigh | AI18: 1 | AJ18: 0.19 | AK18: veryHigh | AL18: 1 | AM18: =IFERROR(AVERAGE(AC18,AF18,AI18,AL18),"N/A") -> 1 | AN18: N/A | AO18: N/A | AP18: N/A | AQ18: 3 | AR18: veryHigh | AS18: 1 | AT18: =IFERROR(AVERAGE(AP18,AS18),"N/A") -> 1 | AU18: N/A | AV18: N/A | AW18: N/A | AX18: N/A | AY18: N/A | AZ18: N/A | BA18: 107146 | BB18: high | BC18: 2 | BD18: =IFERROR(AVERAGE(AW18,AZ18,BC18),"N/A") -> 2 | BE18: 19 | BF18: veryHigh | BG18: 1 | BH18: N/A | BI18: N/A | BJ18: N/A | BK18: =IFERROR(AVERAGE(BG18,BJ18),"N/A") -> 1 | BL18: 10 | BM18: veryHigh | BN18: 1 | BO18: 95.1 | BP18: veryHigh | BQ18: 1 | BR18: =IFERROR(AVERAGE(BN18,BQ18),"N/A") -> 1 | BS18: 57 | BT18: medium | BU18: 3 | BV18: 0.0373 | BW18: low | BX18: 4 | BY18: 8.6 | BZ18: low | CA18: 4 | CB18: =IFERROR(AVERAGE(BU18,BX18,CA18),"N/A") -> 3.6666667 | CC18: 29 | CD18: high | CE18: 2 | CF18: 0 | CG18: low | CH18: 4 | CI18: 0.34 | CJ18: medium | CK18: 3 | CL18: =IFERROR(AVERAGE(CE18,CH18,CK18),"N/A") -> 3
A19: Cameroon | B19: CM | C19: 0.576 | D19: high | E19: 2 | F19: 0.246 | G19: medium | H19: 3 | I19: 47,0% | J19: veryHigh | K19: 1 | L19: =IFERROR(AVERAGE(E19,H19,K19),"N/A") -> 2 | M19: 4 | N19: high | O19: 2 | P19: 0.213 | Q19: high | R19: 2 | S19: =IFERROR(AVERAGE(O19,R19),"N/A") -> 2 | T19: 148 | U19: high | V19: 2 | W19: 0.222 | X19: high | Y19: 2 | Z19: =IFERROR(AVERAGE(V19,Y19),"N/A") -> 2 | AA19: 0.437 | AB19: veryHigh | AC19: 1 | AD19: 0.39 | AE19: veryHigh | AF19: 1 | AG19: 0.58 | AH19: high | AI19: 2 | AJ19: 0.27 | AK19: veryHigh | AL19: 1 | AM19: =IFERROR(AVERAGE(AC19,AF19,AI19,AL19),"N/A") -> 1.25 | AN19: N/A | AO19: N/A | AP19: N/A | AQ19: 44 | AR19: high | AS19: 2 | AT19: =IFERROR(AVERAGE(AP19,AS19),"N/A") -> 2 | AU19: 0.46 | AV19: high | AW19: 2 | AX19: PartiallyMeets | AY19: high | AZ19: 2 | BA19: 1399608 | BB19: veryHigh | BC19: 1 | BD19: =IFERROR(AVERAGE(AW19,AZ19,BC19),"N/A") -> 1.6666667 | BE19: 16 | BF19: veryHigh | BG19: 1 | BH19: 2.9 | BI19: medium | BJ19: 3 | BK19: =IFERROR(AVERAGE(BG19,BJ19),"N/A") -> 2 | BL19: 9 | BM19: veryHigh | BN19: 1 | BO19: 96 | BP19: veryHigh | BQ19: 1 | BR19: =IFERROR(AVERAGE(BN19,BQ19),"N/A") -> 1 | BS19: 68 | BT19: medium | BU19: 3 | BV19: -0.0027 | BW19: high | BX19: 2 | BY19: -56 | BZ19: medium | CA19: 3 | CB19: =IFERROR(AVERAGE(BU19,BX19,CA19),"N/A") -> 2.6666667 | CC19: 0 | CD19: low | CE19: 4 | CF19: 0 | CG19: low | CH19: 4 | CI19: 0.09 | CJ19: low | CK19: 4 | CL19: =IFERROR(AVERAGE(CE19,CH19,CK19),"N/A") -> 4
A20: Canada | B20: CA | C20: 0.936 | D20: low | E20: 4 | F20: N/A | G20: N/A | H20: N/A | I20: 0,5% | J20: low | K20: 4 | L20: =IFERROR(AVERAGE(E20,H20,K20),"N/A") -> 4 | M20: 3 | N20: medium | O20: 3 | P20: N/A | Q20: N/A | R20: N/A | S20: =IFERROR(AVERAGE(O20,R20),"N/A") -> 3 | T20: 17 | U20: low | V20: 4 | W20: N/A | X20: N/A | Y20: N/A | Z20: =IFERROR(AVERAGE(V20,Y20),"N/A") -> 4 | AA20: N/A | AB20: N/A | AC20: N/A | AD20: N/A | AE20: N/A | AF20: N/A | AG20: N/A | AH20: N/A | AI20: N/A | AJ20: N/A | AK20: N/A | AL20: N/A | AM20: =IFERROR(AVERAGE(AC20,AF20,AI20,AL20),"N/A") -> N/A | AN20: N/A | AO20: N/A | AP20: N/A | AQ20: 166 | AR20: low | AS20: 4 | AT20: =IFERROR(AVERAGE(AP20,AS20),"N/A") -> 4 | AU20: 0.65 | AV20: medium | AW20: 3 | AX20: FullyMeets | AY20: low | AZ20: 4 | BA20: 197555 | BB20: high | BC20: 2 | BD20: =IFERROR(AVERAGE(AW20,AZ20,BC20),"N/A") -> 3 | BE20: N/A | BF20: N/A | BG20: N/A | BH20: 2.6 | BI20: medium | BJ20: 3 | BK20: =IFERROR(AVERAGE(BG20,BJ20),"N/A") -> 3 | BL20: 58 | BM20: low | BN20: 4 | BO20: 20.1 | BP20: low | BQ20: 4 | BR20: =IFERROR(AVERAGE(BN20,BQ20),"N/A") -> 4 | BS20: 62 | BT20: medium | BU20: 3 | BV20: -0.0001 | BW20: medium | BX20: 3 | BY20: -39.4 | BZ20: medium | CA20: 3 | CB20: =IFERROR(AVERAGE(BU20,BX20,CA20),"N/A") -> 3 | CC20: N/A | CD20: N/A | CE20: N/A | CF20: 0 | CG20: low | CH20: 4 | CI20: 0.18 | CJ20: medium | CK20: 3 | CL20: =IFERROR(AVERAGE(CE20,CH20,CK20),"N/A") -> 3.5
A21: Cayman Islands | B21: KY | C21: N/A | D21: N/A | E21: N/A | F21: N/A | G21: N/A | H21: N/A | I21: N/A | J21: N/A | K21: N/A | L21: =IFERROR(AVERAGE(E21,H21,K21),"N/A") -> N/A | M21: N/A | N21: N/A | O21: N/A | P21: N/A | Q21: N/A | R21: N/A | S21: =IFERROR(AVERAGE(O21,R21),"N/A") -> N/A | T21: N/A | U21: N/A | V21: N/A | W21: N/A | X21: N/A | Y21: N/A | Z21: =IFERROR(AVERAGE(V21,Y21),"N/A") -> N/A | AA21: N/A | AB21: N/A | AC21: N/A | AD21: N/A | AE21: N/A | AF21: N/A | AG21: N/A | AH21: N/A | AI21: N/A | AJ21: N/A | AK21: N/A | AL21: N/A | AM21: =IFERROR(AVERAGE(AC21,AF21,AI21,AL21),"N/A") -> N/A | AN21: N/A | AO21: N/A | AP21: N/A | AQ21: N/A | AR21: N/A | AS21: N/A | AT21: =IFERROR(AVERAGE(AP21,AS21),"N/A") -> N/A | AU21: N/A | AV21: N/A | AW21: N/A | AX21: N/A | AY21: N/A | AZ21: N/A | BA21: 179 | BB21: low | BC21: 4 | BD21: =IFERROR(AVERAGE(AW21,AZ21,BC21),"N/A") -> 4 | BE21: N/A | BF21: N/A | BG21: N/A | BH21: N/A | BI21: N/A | BJ21: N/A | BK21: =IFERROR(AVERAGE(BG21,BJ21),"N/A") -> N/A | BL21: N/A | BM21: N/A | BN21: N/A | BO21: N/A | BP21: N/A | BQ21: N/A | BR21: =IFERROR(AVERAGE(BN21,BQ21),"N/A") -> N/A | BS21: N/A | BT21: N/A | BU21: N/A | BV21: 0 | BW21: low | BX21: 4 | BY21: 0 | BZ21: low | CA21: 4 | CB21: =IFERROR(AVERAGE(BU21,BX21,CA21),"N/A") -> 4 | CC21: N/A | CD21: N/A | CE21: N/A | CF21: N/A | CG21: N/A | CH21: N/A | CI21: N/A | CJ21: N/A | CK21: N/A | CL21: =IFERROR(AVERAGE(CE21,CH21,CK21),"N/A") -> N/A
A22: Chile | B22: CL | C22: 0.855 | D22: low | E22: 4 | F22: N/A | G22: N/A | H22: N/A | I22: 1,7% | J22: low | K22: 4 | L22: =IFERROR(AVERAGE(E22,H22,K22),"N/A") -> 4 | M22: 4 | N22: high | O22: 2 | P22: 0.001 | Q22: low | R22: 4 | S22: =IFERROR(AVERAGE(O22,R22),"N/A") -> 3 | T22: 47 | U22: low | V22: 4 | W22: 0.0015 | X22: low | Y22: 4 | Z22: =IFERROR(AVERAGE(V22,Y22),"N/A") -> 4 | AA22: 0.038 | AB22: low | AC22: 4 | AD22: 0.06 | AE22: medium | AF22: 3 | AG22: 0.96 | AH22: low | AI22: 4 | AJ22: 0.95 | AK22: low | AL22: 4 | AM22: =IFERROR(AVERAGE(AC22,AF22,AI22,AL22),"N/A") -> 3.75 | AN22: N/A | AO22: N/A | AP22: N/A | AQ22: 162 | AR22: low | AS22: 4 | AT22: =IFERROR(AVERAGE(AP22,AS22),"N/A") -> 4 | AU22: 0.57 | AV22: medium | AW22: 3 | AX22: FullyMeets | AY22: low | AZ22: 4 | BA22: 624868 | BB22: veryHigh | BC22: 1 | BD22: =IFERROR(AVERAGE(AW22,AZ22,BC22),"N/A") -> 2.6666667 | BE22: N/A | BF22: N/A | BG22: N/A | BH22: 2.4 | BI22: medium | BJ22: 3 | BK22: =IFERROR(AVERAGE(BG22,BJ22),"N/A") -> 3 | BL22: 56 | BM22: low | BN22: 4 | BO22: 43.2 | BP22: low | BQ22: 4 | BR22: =IFERROR(AVERAGE(BN22,BQ22),"N/A") -> 4 | BS22: 25 | BT22: high | BU22: 2 | BV22: 0.0085 | BW22: low | BX22: 4 | BY22: 148.5 | BZ22: low | CA22: 4 | CB22: =IFERROR(AVERAGE(BU22,BX22,CA22),"N/A") -> 3.3333333 | CC22: 1 | CD22: low | CE22: 4 | CF22: 3 | CG22: high | CH22: 2 | CI22: 0.52 | CJ22: high | CK22: 2 | CL22: =IFERROR(AVERAGE(CE22,CH22,CK22),"N/A") -> 2.6666667
A23: China | B23: CN | C23: 0.768 | D23: medium | E23: 3 | F23: N/A | G23: N/A | H23: N/A | I23: 3,0% | J23: low | K23: 4 | L23: =IFERROR(AVERAGE(E23,H23,K23),"N/A") -> 3.5 | M23: 5 | N23: veryHigh | O23: 1 | P23: 0.002 | Q23: low | R23: 4 | S23: =IFERROR(AVERAGE(O23,R23),"N/A") -> 2.5 | T23: 48 | U23: low | V23: 4 | W23: 0.002 | X23: low | Y23: 4 | Z23: =IFERROR(AVERAGE(V23,Y23),"N/A") -> 4 | AA23: N/A | AB23: N/A | AC23: N/A | AD23: N/A | AE23: N/A | AF23: N/A | AG23: 0.96 | AH23: low | AI23: 4 | AJ23: 0.88 | AK23: low | AL23: 4 | AM23: =IFERROR(AVERAGE(AC23,AF23,AI23,AL23),"N/A") -> 4 | AN23: Yes | AO23: veryHigh | AP23: 1 | AQ23: 111 | AR23: medium | AS23: 3 | AT23: =IFERROR(AVERAGE(AP23,AS23),"N/A") -> 2 | AU23: 0.46 | AV23: high | AW23: 2 | AX23: Meets | AY23: medium | AZ23: 3 | BA23: 304221 | BB23: high | BC23: 2 | BD23: =IFERROR(AVERAGE(AW23,AZ23,BC23),"N/A") -> 2.3333333 | BE23: 42 | BF23: high | BG23: 2 | BH23: 2.3 | BI23: medium | BJ23: 3 | BK23: =IFERROR(AVERAGE(BG23,BJ23),"N/A") -> 2.5 | BL23: 11 | BM23: veryHigh | BN23: 1 | BO23: 66.9 | BP23: medium | BQ23: 3 | BR23: =IFERROR(AVERAGE(BN23,BQ23),"N/A") -> 2 | BS23: 32 | BT23: high | BU23: 2 | BV23: 0.0093 | BW23: low | BX23: 4 | BY23: 1936.8 | BZ23: low | CA23: 4 | CB23: =IFERROR(AVERAGE(BU23,BX23,CA23),"N/A") -> 3.3333333 | CC23: 27 | CD23: high | CE23: 2 | CF23: 2 | CG23: medium | CH23: 3 | CI23: 0.36 | CJ23: medium | CK23: 3 | CL23: =IFERROR(AVERAGE(CE23,CH23,CK23),"N/A") -> 2.6666667
A24: Colombia | B24: CO | C24: 0.752 | D24: medium | E24: 3 | F24: 0.0083 | G24: low | H24: 4 | I24: 21,1% | J24: medium | K24: 3 | L24: =IFERROR(AVERAGE(E24,H24,K24),"N/A") -> 3.3333333 | M24: 5 | N24: veryHigh | O24: 1 | P24: 0.024 | Q24: low | R24: 4 | S24: =IFERROR(AVERAGE(O24,R24),"N/A") -> 2.5 | T24: 102 | U24: medium | V24: 3 | W24: 0.026 | X24: low | Y24: 4 | Z24: =IFERROR(AVERAGE(V24,Y24),"N/A") -> 3.5 | AA24: 0.025 | AB24: low | AC24: 4 | AD24: 0.07 | AE24: medium | AF24: 3 | AG24: 0.87 | AH24: medium | AI24: 3 | AJ24: 0.57 | AK24: high | AL24: 2 | AM24: =IFERROR(AVERAGE(AC24,AF24,AI24,AL24),"N/A") -> 3 | AN24: Yes | AO24: veryHigh | AP24: 1 | AQ24: 113 | AR24: medium | AS24: 3 | AT24: =IFERROR(AVERAGE(AP24,AS24),"N/A") -> 2 | AU24: 0.48 | AV24: high | AW24: 2 | AX24: FullyMeets | AY24: low | AZ24: 4 | BA24: 9880716 | BB24: veryHigh | BC24: 1 | BD24: =IFERROR(AVERAGE(AW24,AZ24,BC24),"N/A") -> 2.3333333 | BE24: 40 | BF24: high | BG24: 2 | BH24: 1.5 | BI24: low | BJ24: 4 | BK24: =IFERROR(AVERAGE(BG24,BJ24),"N/A") -> 3 | BL24: 35 | BM24: medium | BN24: 3 | BO24: 78.4 | BP24: medium | BQ24: 3 | BR24: =IFERROR(AVERAGE(BN24,BQ24),"N/A") -> 3 | BS24: 28 | BT24: high | BU24: 2 | BV24: -0.0028 | BW24: high | BX24: 2 | BY24: -166.6 | BZ24: high | CA24: 2 | CB24: =IFERROR(AVERAGE(BU24,BX24,CA24),"N/A") -> 2 | CC24: 7 | CD24: low | CE24: 4 | CF24: 0 | CG24: low | CH24: 4 | CI24: 0.2 | CJ24: medium | CK24: 3 | CL24: =IFERROR(AVERAGE(CE24,CH24,CK24),"N/A") -> 3.6666667
A25: Congo (Democratic Republic) | B25: CD | C25: 0.479 | D25: veryHigh | E25: 1 | F25: 0.368 | G25: high | H25: 2 | I25: 87,7% | J25: veryHigh | K25: 1 | L25: =IFERROR(AVERAGE(E25,H25,K25),"N/A") -> 1.3333333 | M25: 4 | N25: high | O25: 2 | P25: 0.688 | Q25: veryHigh | R25: 1 | S25: =IFERROR(AVERAGE(O25,R25),"N/A") -> 1.5 | T25: 151 | U25: high | V25: 2 | W25: 0.688 | X25: veryHigh | Y25: 1 | Z25: =IFERROR(AVERAGE(V25,Y25),"N/A") -> 1.5 | AA25: 0.174 | AB25: high | AC25: 2 | AD25: 0.15 | AE25: high | AF25: 2 | AG25: 0.53 | AH25: high | AI25: 2 | AJ25: 0.39 | AK25: high | AL25: 2 | AM25: =IFERROR(AVERAGE(AC25,AF25,AI25,AL25),"N/A") -> 2 | AN25: NotIdentifiedinAgriculture | AO25: medium | AP25: 3 | AQ25: 12 | AR25: veryHigh | AS25: 1 | AT25: =IFERROR(AVERAGE(AP25,AS25),"N/A") -> 2 | AU25: 0.55 | AV25: medium | AW25: 3 | AX25: N/A | AY25: N/A | AZ25: N/A | BA25: 5934206 | BB25: veryHigh | BC25: 1 | BD25: =IFERROR(AVERAGE(AW25,AZ25,BC25),"N/A") -> 2 | BE25: 7 | BF25: veryHigh | BG25: 1 | BH25: N/A | BI25: N/A | BJ25: N/A | BK25: =IFERROR(AVERAGE(BG25,BJ25),"N/A") -> 1 | BL25: 15 | BM25: veryHigh | BN25: 1 | BO25: 107.3 | BP25: veryHigh | BQ25: 1 | BR25: =IFERROR(AVERAGE(BN25,BQ25),"N/A") -> 1 | BS25: 51 | BT25: medium | BU25: 3 | BV25: -0.0083 | BW25: veryHigh | BX25: 1 | BY25: -1101.4 | BZ25: veryHigh | CA25: 1 | CB25: =IFERROR(AVERAGE(BU25,BX25,CA25),"N/A") -> 1.6666667 | CC25: 6 | CD25: low | CE25: 4 | CF25: 0 | CG25: low | CH25: 4 | CI25: 0.01 | CJ25: low | CK25: 4 | CL25: =IFERROR(AVERAGE(CE25,CH25,CK25),"N/A") -> 4
